BEGIN:VCALENDAR
VERSION:2.0
PRODID:-//Carolyn Hembree - ECPv6.15.20//NONSGML v1.0//EN
CALSCALE:GREGORIAN
METHOD:PUBLISH
X-WR-CALNAME:Carolyn Hembree
X-ORIGINAL-URL:https://carolynhembree.com
X-WR-CALDESC:Events for Carolyn Hembree
REFRESH-INTERVAL;VALUE=DURATION:PT1H
X-Robots-Tag:noindex
X-PUBLISHED-TTL:PT1H
BEGIN:VTIMEZONE
TZID:UTC
BEGIN:STANDARD
TZOFFSETFROM:+0000
TZOFFSETTO:+0000
TZNAME:UTC
DTSTART:20220101T000000
END:STANDARD
END:VTIMEZONE
BEGIN:VTIMEZONE
TZID:America/New_York
BEGIN:DAYLIGHT
TZOFFSETFROM:-0500
TZOFFSETTO:-0400
TZNAME:EDT
DTSTART:20230312T070000
END:DAYLIGHT
BEGIN:STANDARD
TZOFFSETFROM:-0400
TZOFFSETTO:-0500
TZNAME:EST
DTSTART:20231105T060000
END:STANDARD
BEGIN:DAYLIGHT
TZOFFSETFROM:-0500
TZOFFSETTO:-0400
TZNAME:EDT
DTSTART:20240310T070000
END:DAYLIGHT
BEGIN:STANDARD
TZOFFSETFROM:-0400
TZOFFSETTO:-0500
TZNAME:EST
DTSTART:20241103T060000
END:STANDARD
BEGIN:DAYLIGHT
TZOFFSETFROM:-0500
TZOFFSETTO:-0400
TZNAME:EDT
DTSTART:20250309T070000
END:DAYLIGHT
BEGIN:STANDARD
TZOFFSETFROM:-0400
TZOFFSETTO:-0500
TZNAME:EST
DTSTART:20251102T060000
END:STANDARD
END:VTIMEZONE
BEGIN:VEVENT
DTSTART;TZID=UTC:20240919T190000
DTEND;TZID=UTC:20240919T200000
DTSTAMP:20260423T185259
CREATED:20240712T025156Z
LAST-MODIFIED:20240713T221331Z
UID:1780-1726772400-1726776000@carolynhembree.com
SUMMARY:Twisted River Poetry Series
DESCRIPTION:
URL:https://carolynhembree.com/event/twisted-river-poetry-series/
LOCATION:Old Arabi Lighthouse and Books\, 234 Mehle Avenue\, Arabi\, Louisiana
END:VEVENT
BEGIN:VEVENT
DTSTART;TZID=UTC:20240918T180000
DTEND;TZID=UTC:20240918T190000
DTSTAMP:20260423T185259
CREATED:20240712T024535Z
LAST-MODIFIED:20240918T023630Z
UID:1778-1726682400-1726686000@carolynhembree.com
SUMMARY:Reading with Maurice Ruffin and Carolyn Hembree
DESCRIPTION:
URL:https://carolynhembree.com/event/reading-with-maurice-ruffin-and-carolyn-hembree/
LOCATION:Baldwin & Company\, 1030 Elysian Fields Ave\, New Orleans\, LA\, 70117
END:VEVENT
BEGIN:VEVENT
DTSTART;TZID=UTC:20240907T140000
DTEND;TZID=UTC:20240907T150000
DTSTAMP:20260423T185259
CREATED:20240712T024235Z
LAST-MODIFIED:20240902T183117Z
UID:1775-1725717600-1725721200@carolynhembree.com
SUMMARY:Poetry Buffet with Scott Bailey\, Carolyn Hembree\, Michelle Nicholson\, and Timeless
DESCRIPTION:
URL:https://carolynhembree.com/event/poetry-buffet/
LOCATION:Vino on Oak\, 8314 Oak Street\, New Orleans\, LA\, United States
END:VEVENT
BEGIN:VEVENT
DTSTART;TZID=UTC:20240713T130000
DTEND;TZID=UTC:20240713T140000
DTSTAMP:20260423T185259
CREATED:20240604T182808Z
LAST-MODIFIED:20240604T182808Z
UID:1710-1720875600-1720879200@carolynhembree.com
SUMMARY:Booksigning with Carolyn Hembree\, Alison Pelegrin\, and Mona Lisa Saloy
DESCRIPTION:
URL:https://carolynhembree.com/event/booksigning-with-carolyn-hembree-alison-pelegrin-and-mona-lisa-saloy/
LOCATION:Barnes & Noble\, 1200 S. Clearview Parkway\, Ste 1155\, New Orleans\, 70123
END:VEVENT
BEGIN:VEVENT
DTSTART;TZID=UTC:20240613T190000
DTEND;TZID=UTC:20240613T210000
DTSTAMP:20260423T185259
CREATED:20240604T182217Z
LAST-MODIFIED:20240604T182217Z
UID:1707-1718305200-1718312400@carolynhembree.com
SUMMARY:Featured Reading with Nicole Eiden and Carolyn Hembree
DESCRIPTION:
URL:https://carolynhembree.com/event/featured-reading-with-nicole-eiden-and-carolyn-hembree/
LOCATION:Twelfth Night Coffee\, 628 North Rampart\, New Orleans\, 70112
END:VEVENT
BEGIN:VEVENT
DTSTART;TZID=UTC:20240612T190000
DTEND;TZID=UTC:20240612T210000
DTSTAMP:20260423T185259
CREATED:20240604T183941Z
LAST-MODIFIED:20240604T183941Z
UID:1714-1718218800-1718226000@carolynhembree.com
SUMMARY:Michelle Nicholson Book Launch: Conversation with Carolyn and Michelle
DESCRIPTION:
URL:https://carolynhembree.com/event/michelle-nicholson-book-launch-conversation-with-carolyn-and-michelle/
LOCATION:The Domino\, 3044 St. Claude\, New Orleans\, LA\, United States
END:VEVENT
BEGIN:VEVENT
DTSTART;TZID=UTC:20240515T170000
DTEND;TZID=UTC:20240515T183000
DTSTAMP:20260423T185259
CREATED:20240513T023737Z
LAST-MODIFIED:20240513T023737Z
UID:1703-1715792400-1715797800@carolynhembree.com
SUMMARY:Twilight: Poetry Edition with Peter Cooley\, Gina Ferrara\, Carolyn Hembree\, Skye Jackson\, Brad Richard
DESCRIPTION:
URL:https://carolynhembree.com/event/twilight-poetry-edition-with-peter-cooley-gina-ferrara-carolyn-hembree-skye-jackson-brad-richard/
LOCATION:Longue Vue Gardens\, 7 Bamboo Road\, New Orleans\, United States
END:VEVENT
BEGIN:VEVENT
DTSTART;TZID=UTC:20240420T130000
DTEND;TZID=UTC:20240420T140000
DTSTAMP:20260423T185259
CREATED:20240419T060311Z
LAST-MODIFIED:20240419T060311Z
UID:1672-1713618000-1713621600@carolynhembree.com
SUMMARY:Writing the Body: The Intersection of Identity and Corporeality
DESCRIPTION:
URL:https://carolynhembree.com/event/writing-the-body-the-intersection-of-identity-and-corporeality/
LOCATION:New Orleans Healing Center\, 2372 St. Claude\, New Orleans\, LA\, 70117\, United States
END:VEVENT
BEGIN:VEVENT
DTSTART;TZID=UTC:20240420T110000
DTEND;TZID=UTC:20240420T120000
DTSTAMP:20260423T185259
CREATED:20240419T060044Z
LAST-MODIFIED:20240419T060044Z
UID:1670-1713610800-1713614400@carolynhembree.com
SUMMARY:titter-titter ... tee-hee ... YIKES!: A Conversation on Humor in Women's Poetry
DESCRIPTION:
URL:https://carolynhembree.com/event/titter-titter-tee-hee-yikes-a-conversation-on-humor-in-womens-poetry/
LOCATION:New Orleans Healing Center\, 2372 St. Claude\, New Orleans\, LA\, 70117\, United States
END:VEVENT
BEGIN:VEVENT
DTSTART;TZID=UTC:20240416T130000
DTEND;TZID=UTC:20240416T150000
DTSTAMP:20260423T185259
CREATED:20240124T022908Z
LAST-MODIFIED:20240124T022908Z
UID:1569-1713272400-1713279600@carolynhembree.com
SUMMARY:New Orleans Poetry Festival Roadshow
DESCRIPTION:
URL:https://carolynhembree.com/event/new-orleans-poetry-festival-roadshow/
LOCATION:Southeastern Louisiana University\, Hammond\, LA\, United States
END:VEVENT
BEGIN:VEVENT
DTSTART;TZID=UTC:20240414T190000
DTEND;TZID=UTC:20240414T210000
DTSTAMP:20260423T185259
CREATED:20240313T024007Z
LAST-MODIFIED:20240313T025344Z
UID:1653-1713121200-1713128400@carolynhembree.com
SUMMARY:Featured Reading with Nuha Fariha\, Carolyn Hembree\, Erin Little
DESCRIPTION:
URL:https://carolynhembree.com/event/featured-reading-nuha-fariha-carolyn-hembree-erin-little/
LOCATION:Bar Redux\, 801 Poland Ave\, New Orleans\, LA\, 70117\, United States
END:VEVENT
BEGIN:VEVENT
DTSTART;TZID=UTC:20240414T160000
DTEND;TZID=UTC:20240414T180000
DTSTAMP:20260423T185259
CREATED:20240313T021747Z
LAST-MODIFIED:20240313T021851Z
UID:1645-1713110400-1713117600@carolynhembree.com
SUMMARY:Maeve Holler's Book Launch Party
DESCRIPTION:
URL:https://carolynhembree.com/event/maeve-hollers-book-launch-party/
LOCATION:Junk Drawer\, 1042 Toledano St\, New Orleans\, LA
END:VEVENT
BEGIN:VEVENT
DTSTART;TZID=UTC:20240405T180000
DTEND;TZID=UTC:20240405T200000
DTSTAMP:20260423T185259
CREATED:20240206T035032Z
LAST-MODIFIED:20240313T023448Z
UID:1581-1712340000-1712347200@carolynhembree.com
SUMMARY:Delta Mouth Literary Festival Featured Reading with Kweku Abimbola\, Gina Chung\, Carolyn Hembree
DESCRIPTION:
URL:https://carolynhembree.com/event/2024-delta-mouth-literary-festival-featured-reading/
LOCATION:LSU CENTER FOR RIVER STUDIES\, 100 TERRACE AVE\, Baton Rouge\, 70802\, United States
END:VEVENT
BEGIN:VEVENT
DTSTART;TZID=UTC:20240328T190000
DTEND;TZID=UTC:20240328T190000
DTSTAMP:20260423T185259
CREATED:20231111T225324Z
LAST-MODIFIED:20240313T025643Z
UID:1504-1711652400-1711652400@carolynhembree.com
SUMMARY:Book Launch with Neil Shepard and Terese Svoboda
DESCRIPTION:Registration required (free event)
URL:https://carolynhembree.com/event/book-launch-with-neil-shepard-and-carolyn-hembree/
LOCATION:Book Culture\, 536 W. 112th St.\, New York\, New York\, 10025
END:VEVENT
BEGIN:VEVENT
DTSTART;TZID=America/New_York:20240325T190000
DTEND;TZID=America/New_York:20240325T210000
DTSTAMP:20260423T185259
CREATED:20231111T215308Z
LAST-MODIFIED:20240313T022952Z
UID:1487-1711393200-1711400400@carolynhembree.com
SUMMARY:KGB Bar Monday Night Poetry Series with Carolyn Hembree\, Geoffrey Nutter\, Michael J. Wilson
DESCRIPTION:
URL:https://carolynhembree.com/event/kgb-bar-monday-night-poetry-series/
LOCATION:KGB Bar\, 85 East 4th St.\, New York\, New York\, 10003
END:VEVENT
BEGIN:VEVENT
DTSTART;TZID=UTC:20240323T130000
DTEND;TZID=UTC:20240323T141500
DTSTAMP:20260423T185259
CREATED:20230917T000713Z
LAST-MODIFIED:20240219T035740Z
UID:1442-1711198800-1711203300@carolynhembree.com
SUMMARY:Southern Gothic Panel: Anya Groner\, Carolyn Hembree\, Alex Jennings\, Adrian Van Young
DESCRIPTION:
URL:https://carolynhembree.com/event/southern-gothic-panel/
LOCATION:Hotel Monteleone\, 214 Royal St\, New Orleans\, LA\, 70130\, United States
END:VEVENT
BEGIN:VEVENT
DTSTART;TZID=UTC:20240308T200000
DTEND;TZID=UTC:20240308T220000
DTSTAMP:20260423T185259
CREATED:20240219T035202Z
LAST-MODIFIED:20240303T030019Z
UID:1617-1709928000-1709935200@carolynhembree.com
SUMMARY:Reading with Dylan Krieger\, Benjamin Morris\, and Rodrigo Toscano
DESCRIPTION:
URL:https://carolynhembree.com/event/reading-with-dylan-krieger/
LOCATION:Bar Redux\, 801 Poland Ave\, New Orleans\, LA\, 70117\, United States
END:VEVENT
BEGIN:VEVENT
DTSTART;TZID=UTC:20240303T140000
DTEND;TZID=UTC:20240303T143000
DTSTAMP:20260423T185259
CREATED:20240219T034650Z
LAST-MODIFIED:20240219T034650Z
UID:1613-1709474400-1709476200@carolynhembree.com
SUMMARY:Reading with Peter Cooley
DESCRIPTION:
URL:https://carolynhembree.com/event/reading-with-peter-cooley/
LOCATION:Octavia Books\, 513 Octavia St\, New Orleans\, LA\, 70115\, United States
END:VEVENT
BEGIN:VEVENT
DTSTART;TZID=UTC:20240220T180000
DTEND;TZID=UTC:20240220T193000
DTSTAMP:20260423T185259
CREATED:20240110T035601Z
LAST-MODIFIED:20240207T002503Z
UID:1548-1708452000-1708457400@carolynhembree.com
SUMMARY:Reading in Conversation with Karisma Price
DESCRIPTION:
URL:https://carolynhembree.com/event/reading/
LOCATION:Tulane University\, Diboll Gallery\, Newcomb Institute\, Tulane University\, New Orleans\, LA\, 70118
END:VEVENT
BEGIN:VEVENT
DTSTART;TZID=UTC:20240216T190000
DTEND;TZID=UTC:20240216T210000
DTSTAMP:20260423T185259
CREATED:20230820T012710Z
LAST-MODIFIED:20230820T012710Z
UID:1440-1708110000-1708117200@carolynhembree.com
SUMMARY:Carolyn Hembree's Book Release and Birthday Bash
DESCRIPTION:
URL:https://carolynhembree.com/event/carolyn-hembrees-book-release-and-birthday-bash/
LOCATION:Zeitgeist Theatre\, 6621 St. Claude Avenue\, Arabi\, LA\, 70032\, United States
END:VEVENT
BEGIN:VEVENT
DTSTART;TZID=UTC:20240210T110000
DTEND;TZID=UTC:20240210T120000
DTSTAMP:20260423T185259
CREATED:20240110T035113Z
LAST-MODIFIED:20240110T035113Z
UID:1545-1707562800-1707566400@carolynhembree.com
SUMMARY:Rigging a Chevy into a Time Machine Book Signing
DESCRIPTION:
URL:https://carolynhembree.com/event/rigging-a-chevy-into-a-time-machine-book-signing/
LOCATION:AWP Bookfair\, Booth 818 (Trio House Press)\, 301 W 13th St #100\, Kansas City\, MO\, United States
END:VEVENT
BEGIN:VEVENT
DTSTART;TZID=UTC:20240209T150000
DTEND;TZID=UTC:20240209T154500
DTSTAMP:20260423T185259
CREATED:20240110T034120Z
LAST-MODIFIED:20240110T034120Z
UID:1536-1707490800-1707493500@carolynhembree.com
SUMMARY:For Today Book Signing
DESCRIPTION:
URL:https://carolynhembree.com/event/for-today-book-signing/
LOCATION:AWP Bookfair\, Booth 1745 (LSU Press)\, 301 W 13th St #100\, Kansas City\, MO\, 64105\, United States
END:VEVENT
BEGIN:VEVENT
DTSTART;TZID=UTC:20240207T200000
DTEND;TZID=UTC:20240207T220000
DTSTAMP:20260423T185259
CREATED:20240115T221023Z
LAST-MODIFIED:20240206T034210Z
UID:1552-1707336000-1707343200@carolynhembree.com
SUMMARY:AWP Off-Site Reading with Traci Brimhall\, Stella Corso\, Ariel Francisco\, Brook Harries\, Andrew Johnson\, Mary Miller\, C.T. Salazar\, Sampson Starkweather\, Natalie Tombasco\, Rodrigo Toscano\, Issam Zineh\, and me
DESCRIPTION:
URL:https://carolynhembree.com/event/awp-off-site-reading/
LOCATION:21c Museum Hotel Main Gallery\, 219 W 9th St.\, Kansas City\, MO\, United States
END:VEVENT
BEGIN:VEVENT
DTSTART;TZID=UTC:20240131T140000
DTEND;TZID=UTC:20240131T150000
DTSTAMP:20260423T185259
CREATED:20240110T032519Z
LAST-MODIFIED:20240110T032730Z
UID:1533-1706709600-1706713200@carolynhembree.com
SUMMARY:Virtual Book Launch
DESCRIPTION:
URL:https://carolynhembree.com/event/virtual-book-launch/
END:VEVENT
BEGIN:VEVENT
DTSTART;TZID=UTC:20231116T140000
DTEND;TZID=UTC:20231116T151500
DTSTAMP:20260423T185259
CREATED:20230917T003915Z
LAST-MODIFIED:20231112T012506Z
UID:1449-1700143200-1700147700@carolynhembree.com
SUMMARY:New Orleans in Common: Reading with T Clark\, Karin Cecile Davidson\, Ariel Francisco\, and Brad Richard
DESCRIPTION:
URL:https://carolynhembree.com/event/reading-with-t-clark-karin-cecile-davidson-ariel-francisco-and-brad-richard/
LOCATION:Andre Cailloux Center for Performing Arts and Cultural Justice\, 2541 Bayou Road\, New Orleans\, Louisiana\, 70119
END:VEVENT
BEGIN:VEVENT
DTSTART;TZID=UTC:20231010T000000
DTEND;TZID=UTC:20231010T000000
DTSTAMP:20260423T185259
CREATED:20230917T001935Z
LAST-MODIFIED:20230917T001935Z
UID:1445-1696896000-1696896000@carolynhembree.com
SUMMARY:Reading with Jake Bee\, Alex Jennings\, and Christopher Romaguera
DESCRIPTION:
URL:https://carolynhembree.com/event/reading-with-jake-bee-alex-jennings-and-christopher-romaguera/
LOCATION:Bar Redux\, 801 Poland Ave\, New Orleans\, LA\, 70117\, United States
END:VEVENT
BEGIN:VEVENT
DTSTART;TZID=UTC:20230512T200000
DTEND;TZID=UTC:20230512T200000
DTSTAMP:20260423T185259
CREATED:20230407T044846Z
LAST-MODIFIED:20230407T044846Z
UID:737-1683921600-1683921600@carolynhembree.com
SUMMARY:Gold Room Reading Series
DESCRIPTION:
URL:https://carolynhembree.com/event/gold-room-reading-series/
LOCATION:Zeitgeist Theatre\, 6621 St. Claude Avenue\, Arabi\, LA\, 70032\, United States
END:VEVENT
BEGIN:VEVENT
DTSTART;TZID=UTC:20230423T183000
DTEND;TZID=UTC:20230423T200000
DTSTAMP:20260423T185259
CREATED:20230407T045105Z
LAST-MODIFIED:20230407T045105Z
UID:740-1682274600-1682280000@carolynhembree.com
SUMMARY:lmnl reading series featuring Jorge Arturo\, Carolyn Hembree\, and Samantha Hunt
DESCRIPTION:
URL:https://carolynhembree.com/event/lmnl-reading-series-featuring-jorge-arturo-carolyn-hembree-and-samantha-hunt/
LOCATION:AllWays Lounge\, 2240 St. Claude\, New Orleans\, Louisiana\, 70117\, United States
END:VEVENT
BEGIN:VEVENT
DTSTART;TZID=UTC:20230416T144500
DTEND;TZID=UTC:20230416T160000
DTSTAMP:20260423T185259
CREATED:20230407T045258Z
LAST-MODIFIED:20230407T045258Z
UID:743-1681656300-1681660800@carolynhembree.com
SUMMARY:Writing Home at the End of the World: A Poetry Reading (reading)
DESCRIPTION:
URL:https://carolynhembree.com/event/writing-home-at-the-end-of-the-world-a-poetry-reading-reading/
LOCATION:New Orleans Healing Center\, 2372 St. Claude\, New Orleans\, LA\, 70117\, United States
END:VEVENT
BEGIN:VEVENT
DTSTART;TZID=UTC:20230416T100000
DTEND;TZID=UTC:20230416T100000
DTSTAMP:20260423T185259
CREATED:20230407T045413Z
LAST-MODIFIED:20230407T045434Z
UID:747-1681639200-1681639200@carolynhembree.com
SUMMARY:Writing About Illness\, Recovery\, Pain\, and Survival (reading and panel)
DESCRIPTION:
URL:https://carolynhembree.com/event/writing-about-illness-recovery-pain-and-survival-reading-and-panel/
LOCATION:New Orleans Healing Center\, 2372 St. Claude\, New Orleans\, LA\, 70117\, United States
END:VEVENT
END:VCALENDAR